BEGIN:VCALENDAR
VERSION:2.0
PRODID:-//PLK HKTA YUEN YUEN PRIMARY SCHOOL - ECPv6.15.14//NONSGML v1.0//EN
CALSCALE:GREGORIAN
METHOD:PUBLISH
X-ORIGINAL-URL:https://www.yyps.edu.hk
X-WR-CALDESC:Events for PLK HKTA YUEN YUEN PRIMARY SCHOOL
REFRESH-INTERVAL;VALUE=DURATION:PT1H
X-Robots-Tag:noindex
X-PUBLISHED-TTL:PT1H
BEGIN:VTIMEZONE
TZID:Asia/Hong_Kong
BEGIN:STANDARD
TZOFFSETFROM:+0800
TZOFFSETTO:+0800
TZNAME:HKT
DTSTART:20210101T000000
END:STANDARD
END:VTIMEZONE
BEGIN:VEVENT
DTSTART;VALUE=DATE:20220812
DTEND;VALUE=DATE:20220813
DTSTAMP:20260423T173429
CREATED:20220611T133423Z
LAST-MODIFIED:20220611T141132Z
UID:8995-1660262400-1660348799@www.yyps.edu.hk
SUMMARY:Book Day 2022
DESCRIPTION:
URL:https://www.yyps.edu.hk/event/book-day/
CATEGORIES:English
END:VEVENT
END:VCALENDAR